BEGIN:VCALENDAR
VERSION:2.0
PRODID:-//companion.firespring.org//NONSGML kigkonsult.se iCalcreator 2.30.
 10//
CALSCALE:GREGORIAN
METHOD:PUBLISH
UID:7b65d1e4-37fb-4bd6-82ef-981131b8e91c
X-WR-CALDESC:
X-WR-RELCALID:61a541a77dba499cc577bef5ab6f3702
X-WR-TIMEZONE:America/Chicago
BEGIN:VTIMEZONE
TZID:America/Chicago
BEGIN:STANDARD
TZNAME:CST
DTSTART:20251102T020000
TZOFFSETFROM:-0500
TZOFFSETTO:-0600
RDATE:20261101T020000
RDATE:20271107T020000
END:STANDARD
BEGIN:DAYLIGHT
TZNAME:CDT
DTSTART:20260308T020000
TZOFFSETFROM:-0600
TZOFFSETTO:-0500
RDATE:20270314T020000
END:DAYLIGHT
END:VTIMEZONE
BEGIN:VEVENT
UID:b4da7e21-08e2-41f2-a05b-6d305f5a093f
DTSTAMP:20260425T170634Z
DESCRIPTION:
DTSTART;TZID=America/Chicago:20260615T000000
DTEND;TZID=America/Chicago:20260620T235900
LOCATION:
SUMMARY:Volunteer Appreciation Week
END:VEVENT
END:VCALENDAR
