BEGIN:VCALENDAR
VERSION:2.0
PRODID:-//companion.firespring.org//NONSGML kigkonsult.se iCalcreator 2.30.
 10//
CALSCALE:GREGORIAN
METHOD:PUBLISH
UID:2cb2670c-5f98-413e-8cee-f793c2a8c741
X-WR-CALDESC:
X-WR-RELCALID:5c11d4579408ac2149ec6012b0b9b529
X-WR-TIMEZONE:America/Chicago
BEGIN:VTIMEZONE
TZID:America/Chicago
BEGIN:STANDARD
TZNAME:CST
DTSTART:20251102T020000
TZOFFSETFROM:-0500
TZOFFSETTO:-0600
RDATE:20261101T020000
RDATE:20271107T020000
END:STANDARD
BEGIN:DAYLIGHT
TZNAME:CDT
DTSTART:20260308T020000
TZOFFSETFROM:-0600
TZOFFSETTO:-0500
RDATE:20270314T020000
END:DAYLIGHT
END:VTIMEZONE
BEGIN:VEVENT
UID:31f2b5f0-0eae-41a5-98f1-19b9c0b5edc2
DTSTAMP:20260425T171004Z
DESCRIPTION:
DTSTART;TZID=America/Chicago:20260518T000000
DTEND;TZID=America/Chicago:20260523T235900
LOCATION:
SUMMARY:Volunteer Appreciation Week
END:VEVENT
END:VCALENDAR
