BEGIN:VCALENDAR
VERSION:2.0
PRODID:-//companion.firespring.org//NONSGML kigkonsult.se iCalcreator 2.30.
 10//
CALSCALE:GREGORIAN
METHOD:PUBLISH
UID:2c3a60d9-be5e-4828-8774-72aaddb5b3d9
X-WR-CALDESC:
X-WR-RELCALID:303b5c9482c4d34b8f21642a0c2e62f7
X-WR-TIMEZONE:America/Chicago
BEGIN:VTIMEZONE
TZID:America/Chicago
BEGIN:STANDARD
TZNAME:CST
DTSTART:20251102T020000
TZOFFSETFROM:-0500
TZOFFSETTO:-0600
RDATE:20261101T020000
RDATE:20271107T020000
END:STANDARD
BEGIN:DAYLIGHT
TZNAME:CDT
DTSTART:20260308T020000
TZOFFSETFROM:-0600
TZOFFSETTO:-0500
RDATE:20270314T020000
END:DAYLIGHT
END:VTIMEZONE
BEGIN:VEVENT
UID:57b1693f-44dc-4ef7-b733-e572f40485b4
DTSTAMP:20260426T002512Z
DESCRIPTION:
DTSTART;TZID=America/Chicago:20260817T000000
DTEND;TZID=America/Chicago:20260822T235900
LOCATION:
SUMMARY:Volunteer Appreciation Week
END:VEVENT
END:VCALENDAR
