BEGIN:VCALENDAR
VERSION:2.0
PRODID:-//companion.firespring.org//NONSGML kigkonsult.se iCalcreator 2.30.
 10//
CALSCALE:GREGORIAN
METHOD:PUBLISH
UID:b55fd4fb-8eb4-4999-a538-da029eb7d8ab
X-WR-CALDESC:
X-WR-RELCALID:e5eac789e0b784d7c5cb15b8d2d3229b
X-WR-TIMEZONE:America/Chicago
BEGIN:VTIMEZONE
TZID:America/Chicago
BEGIN:STANDARD
TZNAME:CST
DTSTART:20251102T020000
TZOFFSETFROM:-0500
TZOFFSETTO:-0600
RDATE:20261101T020000
RDATE:20271107T020000
END:STANDARD
BEGIN:DAYLIGHT
TZNAME:CDT
DTSTART:20260308T020000
TZOFFSETFROM:-0600
TZOFFSETTO:-0500
RDATE:20270314T020000
END:DAYLIGHT
END:VTIMEZONE
BEGIN:VEVENT
UID:fe974754-c633-488f-863d-a28345aa7c2d
DTSTAMP:20260426T002634Z
DESCRIPTION:
DTSTART;TZID=America/Chicago:20260812T150000
DTEND;TZID=America/Chicago:20260812T170000
LOCATION:211 N 14th St.
SUMMARY:Volunteer Orientation
END:VEVENT
END:VCALENDAR
