BEGIN:VCALENDAR
VERSION:2.0
PRODID:-//companion.firespring.org//NONSGML kigkonsult.se iCalcreator 2.30.
 10//
CALSCALE:GREGORIAN
METHOD:PUBLISH
UID:53143728-b9ce-4e6f-a6eb-5115bf29024e
X-WR-CALDESC:
X-WR-RELCALID:1432dd6ed2c21d8941470a9c32cdc9c5
X-WR-TIMEZONE:America/Chicago
BEGIN:VTIMEZONE
TZID:America/Chicago
BEGIN:STANDARD
TZNAME:CST
DTSTART:20251102T020000
TZOFFSETFROM:-0500
TZOFFSETTO:-0600
RDATE:20261101T020000
RDATE:20271107T020000
END:STANDARD
BEGIN:DAYLIGHT
TZNAME:CDT
DTSTART:20260308T020000
TZOFFSETFROM:-0600
TZOFFSETTO:-0500
RDATE:20270314T020000
END:DAYLIGHT
END:VTIMEZONE
BEGIN:VEVENT
UID:03de1dee-1560-45fd-b3b3-e52c4fa1fc3c
DTSTAMP:20260425T230619Z
DESCRIPTION:
DTSTART;TZID=America/Chicago:20260720T000000
DTEND;TZID=America/Chicago:20260725T235900
LOCATION:
SUMMARY:Volunteer Appreciation Week
END:VEVENT
END:VCALENDAR
